BEGIN:VCALENDAR
PRODID:-//github.com/rianjs/ical.net//NONSGML ical.net 2.2//EN
VERSION:2.0
BEGIN:VEVENT
DESCRIPTION:ProTEAM Auction - 17TH ANNUAL SUMMER ABSOLUTE AUCTION\nAuction
  Phone: 8656747002\n0 Items\n\nhttps://auctionresource.com/auctions/56759
 /17th-annual-summer-absolute-auction
DTSTAMP:20260424T135640Z
DTSTART:20260604T130000Z
LOCATION:White Pine\, TN
SEQUENCE:0
SUMMARY:17TH ANNUAL SUMMER ABSOLUTE AUCTION
UID:b3fe35e5-80e3-45db-ac59-d0bb951d4ac4
URL:https://auctionresource.com/auctions/56759/17th-annual-summer-absolute
 -auction
END:VEVENT
END:VCALENDAR
