BEGIN:VCALENDAR
PRODID:-//github.com/rianjs/ical.net//NONSGML ical.net 2.2//EN
VERSION:2.0
BEGIN:VEVENT
DESCRIPTION:Yoder & Frey - Yoder & Frey: Florida\nAuction Phone: 407396606
 0\n646 Items\n\nhttps://auctionresource.com/auctions/56758/yoder--frey-fl
 orida
DTSTAMP:20260424T135640Z
DTSTART:20260604T123000Z
LOCATION:654 West Southport Rd\, Kissimmee\, FL 34746
SEQUENCE:0
SUMMARY:Yoder & Frey: Florida
UID:8f45a42f-8ec8-49a6-824a-de83530b922c
URL:https://auctionresource.com/auctions/56758/yoder--frey-florida
END:VEVENT
BEGIN:VEVENT
DESCRIPTION:Yoder & Frey - Yoder & Frey: Florida\nAuction Phone: 407396606
 0\n646 Items\n\nhttps://auctionresource.com/auctions/56758/yoder--frey-fl
 orida
DTSTAMP:20260424T135640Z
DTSTART:20260605T123000Z
LOCATION:654 West Southport Rd\, Kissimmee\, FL 34746
SEQUENCE:0
SUMMARY:Yoder & Frey: Florida
UID:3ad349ad-b9c6-48b8-aaea-0ab013d73f6d
URL:https://auctionresource.com/auctions/56758/yoder--frey-florida
END:VEVENT
END:VCALENDAR
