BEGIN:VCALENDAR
PRODID:-//github.com/rianjs/ical.net//NONSGML ical.net 2.2//EN
VERSION:2.0
BEGIN:VEVENT
DESCRIPTION:Wilkinson Auction & Realty - Mach IV Motors Spring Motorcycle 
 Auction\nAuction Phone: 9209600685\n134 Items\n\nhttps://auctionresource.
 com/auctions/56734/mach-iv-motors-spring-motorcycle-auction
DTSTAMP:20260423T114342Z
DTSTART:20260502T180000Z
LOCATION:600 E Hancock St\, Appleton\, WI
SEQUENCE:0
SUMMARY:Mach IV Motors Spring Motorcycle Auction
UID:ca928fe4-493a-4fdd-8b33-16a9c6bc6314
URL:https://auctionresource.com/auctions/56734/mach-iv-motors-spring-motor
 cycle-auction
END:VEVENT
END:VCALENDAR
