BEGIN:VCALENDAR
PRODID:-//github.com/rianjs/ical.net//NONSGML ical.net 2.2//EN
VERSION:2.0
BEGIN:VEVENT
DESCRIPTION:Wilson National LLC - ACME Tree Service Inc Retirement Auction
 \nAuction Phone: (937) 763-1993\n67 Items\n\nhttps://auctionresource.com/
 auctions/56732/acme-tree-service-inc-retirement-auction
DTSTAMP:20260423T114342Z
DTSTART:20260509T120000Z
LOCATION:9730 Suspension Bridge Rd\, Harrison OH 45030
SEQUENCE:0
SUMMARY:ACME Tree Service Inc Retirement Auction
UID:6a6e6339-cbd6-4b54-9640-9cd9e191d05c
URL:https://auctionresource.com/auctions/56732/acme-tree-service-inc-retir
 ement-auction
END:VEVENT
END:VCALENDAR
