BEGIN:VCALENDAR
PRODID:-//github.com/rianjs/ical.net//NONSGML ical.net 2.2//EN
VERSION:2.0
BEGIN:VEVENT
DESCRIPTION:Kurtz Trading LLC - Kurtz Trading June 10th Virtual Auction\nA
 uction Phone: (717) 400-7051\n0 Items\n\nhttps://auctionresource.com/auct
 ions/56731/kurtz-trading-june-10th-virtual-auction
DTSTAMP:20260423T114341Z
DTSTART:20260610T120000Z
LOCATION:VARIOUS LOCATIONS
SEQUENCE:0
SUMMARY:Kurtz Trading June 10th Virtual Auction
UID:b91bd699-64e0-4774-8467-f9cbcb20d582
URL:https://auctionresource.com/auctions/56731/kurtz-trading-june-10th-vir
 tual-auction
END:VEVENT
END:VCALENDAR
