BEGIN:VCALENDAR
PRODID:-//github.com/rianjs/ical.net//NONSGML ical.net 2.2//EN
VERSION:2.0
BEGIN:VEVENT
DESCRIPTION:Kurtz Trading LLC - Kurtz Trading May 13th Equipment Auction\n
 Auction Phone: (717) 400-7051\n0 Items\n\nhttps://auctionresource.com/auc
 tions/56730/kurtz-trading-may-13th-equipment-auction
DTSTAMP:20260423T114342Z
DTSTART:20260513T120000Z
LOCATION:45 St Johns Rd Littlestown\, Pennsylvania 17340
SEQUENCE:0
SUMMARY:Kurtz Trading May 13th Equipment Auction
UID:66cc4e4a-7de1-49a0-b7d8-01a21efa4af6
URL:https://auctionresource.com/auctions/56730/kurtz-trading-may-13th-equi
 pment-auction
END:VEVENT
END:VCALENDAR
