BEGIN:VCALENDAR
PRODID:-//github.com/rianjs/ical.net//NONSGML ical.net 2.2//EN
VERSION:2.0
BEGIN:VEVENT
DESCRIPTION:BigIron Auctions - May 06\, 2026 - Equipment Auction\nAuction 
 Phone: 8009373558\n260 Items\n\nhttps://auctionresource.com/auctions/5672
 8/may-06-2026---equipment-auction
DTSTAMP:20260423T114342Z
DTSTART:20260506T130000Z
LOCATION:Various Locations
SEQUENCE:0
SUMMARY:May 06\, 2026 - Equipment Auction
UID:c3e0e6c2-cc32-4734-87b1-30f4a54a3b92
URL:https://auctionresource.com/auctions/56728/may-06-2026---equipment-auc
 tion
END:VEVENT
END:VCALENDAR
