BEGIN:VCALENDAR
PRODID:-//github.com/rianjs/ical.net//NONSGML ical.net 2.2//EN
VERSION:2.0
BEGIN:VEVENT
DESCRIPTION:Witcher Auctions LLC - 2026 Spring Arkansas Local Government A
 uction\nAuction Phone: (870) 238-1400\n0 Items\n\nhttps://auctionresource
 .com/auctions/56727/2026-spring-arkansas-local-government-auction
DTSTAMP:20260422T154212Z
DTSTART;VALUE=DATE:20260529
LOCATION:United States
SEQUENCE:0
SUMMARY:2026 Spring Arkansas Local Government Auction
UID:750815ca-7bda-40d0-8ebe-3a5cfbf14ef0
URL:https://auctionresource.com/auctions/56727/2026-spring-arkansas-local-
 government-auction
END:VEVENT
END:VCALENDAR
