BEGIN:VCALENDAR
PRODID:-//github.com/rianjs/ical.net//NONSGML ical.net 2.2//EN
VERSION:2.0
BEGIN:VEVENT
DESCRIPTION:Lippard Auctioneers - 5/6 Firearm Auction Enid OK\nAuction Pho
 ne: (580) 237-7174\n180 Items\n\nhttps://auctionresource.com/auctions/566
 90/56-firearm-auction-enid-ok
DTSTAMP:20260422T154212Z
DTSTART:20260506T230000Z
LOCATION:2609 N Van Buren\, Enid\, OK 73703
SEQUENCE:0
SUMMARY:5/6 Firearm Auction Enid OK
UID:8475ec1e-7cac-4fff-8064-c56ef1336050
URL:https://auctionresource.com/auctions/56690/56-firearm-auction-enid-ok
END:VEVENT
END:VCALENDAR
