BEGIN:VCALENDAR
PRODID:-//github.com/rianjs/ical.net//NONSGML ical.net 2.2//EN
VERSION:2.0
BEGIN:VEVENT
DESCRIPTION:Meridian Equipment - May Shop and Tool Auction\nAuction Phone:
  360-398-2141\n657 Items\n\nhttps://auctionresource.com/auctions/56689/ma
 y-shop-and-tool-auction
DTSTAMP:20260422T152310Z
DTSTART:20260510T200000Z
LOCATION:5946 Guide Meridian\, Bellingham\, WA 98226
SEQUENCE:0
SUMMARY:May Shop and Tool Auction
UID:2cc6be38-9e3b-46f6-aa21-ae5e1165e159
URL:https://auctionresource.com/auctions/56689/may-shop-and-tool-auction
END:VEVENT
END:VCALENDAR
