BEGIN:VCALENDAR
PRODID:-//github.com/rianjs/ical.net//NONSGML ical.net 2.2//EN
VERSION:2.0
BEGIN:VEVENT
DESCRIPTION:Meridian Equipment - May Machinery Consignment Auction\nAuctio
 n Phone: 360-398-2141\n0 Items\n\nhttps://auctionresource.com/auctions/56
 688/may-machinery-consignment-auction
DTSTAMP:20260422T152309Z
DTSTART:20260509T200000Z
LOCATION:5946 Guide Meridian\, Bellingham\, WA 98226
SEQUENCE:0
SUMMARY:May Machinery Consignment Auction
UID:93e5f23d-105c-4c79-b10a-92a9a0249877
URL:https://auctionresource.com/auctions/56688/may-machinery-consignment-a
 uction
END:VEVENT
END:VCALENDAR
