BEGIN:VCALENDAR
PRODID:-//github.com/rianjs/ical.net//NONSGML ical.net 2.2//EN
VERSION:2.0
BEGIN:VEVENT
DESCRIPTION:Quarrick Equipment & Auctions Inc. - May Construction & Agricu
 ltural Equipment Auction - Ring 2\nAuction Phone: (724) 631-7038\n0 Items
 \n\nhttps://auctionresource.com/auctions/56687/may-construction--agricult
 ural-equipment-auction---ring-2
DTSTAMP:20260422T152309Z
DTSTART:20260507T120000Z
LOCATION:168 Quarrick Rd Uniontown\, Pennsylvania 15401
SEQUENCE:0
SUMMARY:May Construction & Agricultural Equipment Auction - Ring 2
UID:827015a2-4baa-45a6-8386-88979715d6e3
URL:https://auctionresource.com/auctions/56687/may-construction--agricultu
 ral-equipment-auction---ring-2
END:VEVENT
END:VCALENDAR
