BEGIN:VCALENDAR
PRODID:-//github.com/rianjs/ical.net//NONSGML ical.net 2.2//EN
VERSION:2.0
BEGIN:VEVENT
DESCRIPTION:Lippard Auctioneers - 5/4 Janie Hembree Auction Tonkawa OK\nAu
 ction Phone: (580) 237-7174\n25 Items\n\nhttps://auctionresource.com/auct
 ions/56665/54-janie-hembree-auction-tonkawa-ok
DTSTAMP:20260421T150902Z
DTSTART:20260504T230000Z
LOCATION:9800 S. 60th St. Tonkawa\, OK 74653
SEQUENCE:0
SUMMARY:5/4 Janie Hembree Auction Tonkawa OK
UID:c2fe0911-dd17-468c-8378-45088876c402
URL:https://auctionresource.com/auctions/56665/54-janie-hembree-auction-to
 nkawa-ok
END:VEVENT
END:VCALENDAR
