BEGIN:VCALENDAR
PRODID:-//github.com/rianjs/ical.net//NONSGML ical.net 2.2//EN
VERSION:2.0
BEGIN:VEVENT
DESCRIPTION:Wolfe Industrial Auctions\, Inc. - Southern PA Mid Summer Cont
 ractors Auction\nAuction Phone: 8004439580\n0 Items\n\nhttps://auctionres
 ource.com/auctions/56605/southern-pa-mid-summer-contractors-auction
DTSTAMP:20260420T175308Z
DTSTART:20260619T130000Z
LOCATION:400 Old US Rte 15\, York Springs\, PA 17372
SEQUENCE:0
SUMMARY:Southern PA Mid Summer Contractors Auction
UID:9c467e03-e447-4cdb-90df-eacced265ac0
URL:https://auctionresource.com/auctions/56605/southern-pa-mid-summer-cont
 ractors-auction
END:VEVENT
END:VCALENDAR
