BEGIN:VCALENDAR
PRODID:-//github.com/rianjs/ical.net//NONSGML ical.net 2.2//EN
VERSION:2.0
BEGIN:VEVENT
DESCRIPTION:Henderson Auctions - The Ellsworth Collection Auction | April 
 29-30\nAuction Phone: (225) 686-2252\n1197 Items\n\nhttps://auctionresour
 ce.com/auctions/55878/the-ellsworth-collection-auction--april-29-30
DTSTAMP:20260423T170613Z
DTSTART:20260430T160000Z
LOCATION:Online Only
SEQUENCE:0
SUMMARY:The Ellsworth Collection Auction | April 29-30
UID:14fdd0e1-6fcb-441c-8e0e-cbbc491a416f
URL:https://auctionresource.com/auctions/55878/the-ellsworth-collection-au
 ction--april-29-30
END:VEVENT
END:VCALENDAR
