BEGIN:VCALENDAR
PRODID:-//github.com/rianjs/ical.net//NONSGML ical.net 2.2//EN
VERSION:2.0
BEGIN:VEVENT
DESCRIPTION:Elite Auction Co. - Dean Damron Retirement & Others Auction\nA
 uction Phone: 580-660-6179\n229 Items\n\nhttps://auctionresource.com/auct
 ions/55876/dean-damron-retirement--others-auction
DTSTAMP:20260424T140533Z
DTSTART:20260502T150000Z
LOCATION:Elk City\, OK
SEQUENCE:0
SUMMARY:Dean Damron Retirement & Others Auction
UID:2c8aee2f-24d4-46c3-9e59-fd456eabbd2e
URL:https://auctionresource.com/auctions/55876/dean-damron-retirement--oth
 ers-auction
END:VEVENT
END:VCALENDAR
