BEGIN:VCALENDAR
PRODID:-//github.com/rianjs/ical.net//NONSGML ical.net 2.2//EN
VERSION:2.0
BEGIN:VEVENT
DESCRIPTION:Bar None Auction - Monthly Public Auction - Sacramento\, CA\nA
 uction Phone: (916) 383-2000\n237 Items\n\nhttps://auctionresource.com/au
 ctions/55874/monthly-public-auction---sacramento-ca
DTSTAMP:20260424T155800Z
DTSTART:20260509T153000Z
LOCATION:4751 Power Inn Road\, Sacramento\, CA 95826
SEQUENCE:0
SUMMARY:Monthly Public Auction - Sacramento\, CA
UID:84690f07-b5ce-4e73-833b-954e93f97771
URL:https://auctionresource.com/auctions/55874/monthly-public-auction---sa
 cramento-ca
END:VEVENT
END:VCALENDAR
