BEGIN:VCALENDAR
PRODID:-//github.com/rianjs/ical.net//NONSGML ical.net 2.2//EN
VERSION:2.0
BEGIN:VEVENT
DESCRIPTION:Van Massey Auction & Realty  - April 2026 Equipment Auction\nA
 uction Phone: (931)433-8686\n2157 Items\n\nhttps://auctionresource.com/au
 ctions/55871/april-2026-equipment-auction
DTSTAMP:20260423T185616Z
DTSTART:20260427T120000Z
LOCATION:31 Lynchburg Hwy  Fayetteville\, TN 37334
SEQUENCE:0
SUMMARY:April 2026 Equipment Auction
UID:8ec1681f-2dab-46c7-b3aa-3e209fb1629c
URL:https://auctionresource.com/auctions/55871/april-2026-equipment-auction
END:VEVENT
END:VCALENDAR
