BEGIN:VCALENDAR
PRODID:-//github.com/rianjs/ical.net//NONSGML ical.net 2.2//EN
VERSION:2.0
BEGIN:VEVENT
DESCRIPTION:Taylor & Martin\, LLC - KERSEY (GREELEY)\, CO\nAuction Phone: 
 4029411550\n142 Items\n\nhttps://auctionresource.com/auctions/55869/kerse
 y-greeley-co
DTSTAMP:20260424T155801Z
DTSTART:20260514T150000Z
LOCATION:26962 Transportation Dr\, Kersey (Greeley)\, CO 80644
SEQUENCE:0
SUMMARY:KERSEY (GREELEY)\, CO
UID:016bee10-8494-4e5e-b982-2efebaaa1267
URL:https://auctionresource.com/auctions/55869/kersey-greeley-co
END:VEVENT
END:VCALENDAR
