BEGIN:VCALENDAR
PRODID:-//github.com/rianjs/ical.net//NONSGML ical.net 2.2//EN
VERSION:2.0
BEGIN:VEVENT
DESCRIPTION:Taylor & Martin\, LLC - SALISBURY\, NC / HAMPTON\, GA RING 2\n
 Auction Phone: 5312090002\n99 Items\n\nhttps://auctionresource.com/auctio
 ns/55867/salisbury-nc--hampton-ga-ring-2
DTSTAMP:20260423T163901Z
DTSTART:20260507T140000Z
LOCATION:770 Speedway Blvd\, Hampton\, GA 30228
SEQUENCE:0
SUMMARY:SALISBURY\, NC / HAMPTON\, GA RING 2
UID:2b74ae9f-26c2-433f-8814-8a886821aded
URL:https://auctionresource.com/auctions/55867/salisbury-nc--hampton-ga-ri
 ng-2
END:VEVENT
END:VCALENDAR
