BEGIN:VCALENDAR
PRODID:-//github.com/rianjs/ical.net//NONSGML ical.net 2.2//EN
VERSION:2.0
BEGIN:VEVENT
DESCRIPTION:Permian International Auctions - Oilfield\, Truck\, & Construc
 tion Equipment\nAuction Phone: 4326942018\n831 Items\n\nhttps://auctionre
 source.com/auctions/55826/oilfield-truck--construction-equipment
DTSTAMP:20260424T142337Z
DTSTART:20260505T140000Z
LOCATION:Midland\, TX
SEQUENCE:0
SUMMARY:Oilfield\, Truck\, & Construction Equipment
UID:ad49e57b-e344-49a2-a7e9-527fced14359
URL:https://auctionresource.com/auctions/55826/oilfield-truck--constructio
 n-equipment
END:VEVENT
END:VCALENDAR
