BEGIN:VCALENDAR
PRODID:-//github.com/rianjs/ical.net//NONSGML ical.net 2.2//EN
VERSION:2.0
BEGIN:VEVENT
DESCRIPTION:Witcher Auctions LLC - Nathan Crotts Farms\nAuction Phone: 870
 -238-1400\n82 Items\n\nhttps://auctionresource.com/auctions/55795/nathan-
 crotts-farms
DTSTAMP:20260421T203248Z
DTSTART;VALUE=DATE:20260429
LOCATION:252 Craighead County Rd 252 Rd\, Cash\, AR
SEQUENCE:0
SUMMARY:Nathan Crotts Farms
UID:f2c62292-7274-48a5-a356-7d4e9fe86a7a
URL:https://auctionresource.com/auctions/55795/nathan-crotts-farms
END:VEVENT
END:VCALENDAR
