BEGIN:VCALENDAR
PRODID:-//github.com/rianjs/ical.net//NONSGML ical.net 2.2//EN
VERSION:2.0
BEGIN:VEVENT
DESCRIPTION:Ridgely Auction & Realty - SPRING EQUIPMENT - ITEMS ADDED DAIL
 Y\nAuction Phone: (731)987-2847\n211 Items\n\nhttps://auctionresource.com
 /auctions/55793/spring-equipment---items-added-daily
DTSTAMP:20260421T203254Z
DTSTART:20260423T130000Z
LOCATION:90 INDUSTRIAL LANE\, MCLEMORESVILLE\, TN
SEQUENCE:0
SUMMARY:SPRING EQUIPMENT - ITEMS ADDED DAILY
UID:3092f45e-d846-43de-9549-7e4e201e51a3
URL:https://auctionresource.com/auctions/55793/spring-equipment---items-ad
 ded-daily
END:VEVENT
END:VCALENDAR
