BEGIN:VCALENDAR
PRODID:-//github.com/rianjs/ical.net//NONSGML ical.net 2.2//EN
VERSION:2.0
BEGIN:VEVENT
DESCRIPTION:J. Stout Auctions - Day 2 - Swaggart Bros. Inc. Complete Dispe
 rsal\, Timed Online Only Auction\nAuction Phone: 8888978864\n796 Items\n\
 nhttps://auctionresource.com/auctions/55742/day-2---swaggart-bros-inc-com
 plete-dispersal-timed-online-only-auction
DTSTAMP:20260421T185059Z
DTSTART:20260423T153000Z
LOCATION:Washington
SEQUENCE:0
SUMMARY:Day 2 - Swaggart Bros. Inc. Complete Dispersal\, Timed Online Only
  Auction
UID:53c8f7fc-865c-41f8-9cf4-3e6a84021184
URL:https://auctionresource.com/auctions/55742/day-2---swaggart-bros-inc-c
 omplete-dispersal-timed-online-only-auction
END:VEVENT
END:VCALENDAR
