BEGIN:VCALENDAR
PRODID:-//github.com/rianjs/ical.net//NONSGML ical.net 2.2//EN
VERSION:2.0
BEGIN:VEVENT
DESCRIPTION:Taylor & Martin\, LLC - PEKIN\, IL RING 1\nAuction Phone: (800
 ) 654-8280\n594 Items\n\nhttps://auctionresource.com/auctions/55691/pekin
 -il-ring-1
DTSTAMP:20260421T204045Z
DTSTART:20260423T140000Z
LOCATION:13587 East Manito Road PEKIN\, IL 61554
SEQUENCE:0
SUMMARY:PEKIN\, IL RING 1
UID:f2d36e75-8f6a-4d4e-8c3d-deb3b339f3d9
URL:https://auctionresource.com/auctions/55691/pekin-il-ring-1
END:VEVENT
END:VCALENDAR
