BEGIN:VCALENDAR
PRODID:-//github.com/rianjs/ical.net//NONSGML ical.net 2.2//EN
VERSION:2.0
BEGIN:VEVENT
DESCRIPTION:Bar None Auction - MONTHLY PUBLIC AUCTION\nAuction Phone: 503.
 379.0694\n1892 Items\n\nhttps://auctionresource.com/auctions/55331/monthl
 y-public-auction
DTSTAMP:20260423T185616Z
DTSTART:20260424T153000Z
LOCATION:17129 HIGHWAY 99 NE\, WOODBURN\, OR 97071
SEQUENCE:0
SUMMARY:MONTHLY PUBLIC AUCTION
UID:e32e263b-6d7b-430c-a9b5-0390f44a2704
URL:https://auctionresource.com/auctions/55331/monthly-public-auction
END:VEVENT
END:VCALENDAR
