BEGIN:VCALENDAR
PRODID:-//github.com/rianjs/ical.net//NONSGML ical.net 2.2//EN
VERSION:2.0
BEGIN:VEVENT
DESCRIPTION:Bright Star Auctions - IndFas Rental & Sales - Absolute Liquid
 ation Auction - Somerset\, KY\nAuction Phone: 5748217530\n277 Items\n\nht
 tps://auctionresource.com/auctions/55326/indfas-rental--sales---absolute-
 liquidation-auction---somerset-ky
DTSTAMP:20260424T142337Z
DTSTART:20260508T130000Z
LOCATION:210 Browning Rd\, Somerset\, KY 42503
SEQUENCE:0
SUMMARY:IndFas Rental & Sales - Absolute Liquidation Auction - Somerset\, 
 KY
UID:06093956-e2e7-4ff1-b128-a493573700b1
URL:https://auctionresource.com/auctions/55326/indfas-rental--sales---abso
 lute-liquidation-auction---somerset-ky
END:VEVENT
END:VCALENDAR
