BEGIN:VCALENDAR
PRODID:-//github.com/rianjs/ical.net//NONSGML ical.net 2.2//EN
VERSION:2.0
BEGIN:VEVENT
DESCRIPTION:Aumann Auctions - Duane Helman Collection - Parts\, Projects\,
  Implements and Equipment\nAuction Phone: 2172990163\n544 Items\n\nhttps:
 //auctionresource.com/auctions/55306/duane-helman-collection---parts-proj
 ects-implements-and-equipment
DTSTAMP:20260424T142337Z
DTSTART:20260506T230000Z
LOCATION:6675 N State Route 235\, Conover\, Ohio 45317
SEQUENCE:0
SUMMARY:Duane Helman Collection - Parts\, Projects\, Implements and Equipm
 ent
UID:956c0fac-a9c1-432f-a7c9-14f06c1200fd
URL:https://auctionresource.com/auctions/55306/duane-helman-collection---p
 arts-projects-implements-and-equipment
END:VEVENT
END:VCALENDAR
