BEGIN:VCALENDAR
PRODID:-//github.com/rianjs/ical.net//NONSGML ical.net 2.2//EN
VERSION:2.0
BEGIN:VEVENT
DESCRIPTION:Aumann Auctions - Helman Tractor and Vehicle Collection\nAucti
 on Phone: 2172990163\n118 Items\n\nhttps://auctionresource.com/auctions/5
 5305/helman-tractor-and-vehicle-collection
DTSTAMP:20260424T155800Z
DTSTART:20260505T230000Z
LOCATION:6675 N State Route 235\, Conover\, Ohio 45317
SEQUENCE:0
SUMMARY:Helman Tractor and Vehicle Collection
UID:657874ab-d6a9-4ada-bddd-d7238878a7b4
URL:https://auctionresource.com/auctions/55305/helman-tractor-and-vehicle-
 collection
END:VEVENT
END:VCALENDAR
