BEGIN:VCALENDAR
PRODID:-//github.com/rianjs/ical.net//NONSGML ical.net 2.2//EN
VERSION:2.0
BEGIN:VEVENT
DESCRIPTION:J. Stout Auctions - Forestry & Logging Equipment Live Streamin
 g Auction\nAuction Phone: 8888978864\n258 Items\n\nhttps://auctionresourc
 e.com/auctions/55303/forestry--logging-equipment-live-streaming-auction
DTSTAMP:20260423T204547Z
DTSTART:20260429T153000Z
LOCATION:Washington
SEQUENCE:0
SUMMARY:Forestry & Logging Equipment Live Streaming Auction
UID:215d07ea-2d07-4d74-b806-f54cd13890e7
URL:https://auctionresource.com/auctions/55303/forestry--logging-equipment
 -live-streaming-auction
END:VEVENT
END:VCALENDAR
