BEGIN:VCALENDAR
PRODID:-//github.com/rianjs/ical.net//NONSGML ical.net 2.2//EN
VERSION:2.0
BEGIN:VEVENT
DESCRIPTION:Wilkinson Auction & Realty - Swiderski Power 7th Annual Lawn &
  Garden Auction\nAuction Phone: 7155511107\n252 Items\n\nhttps://auctionr
 esource.com/auctions/52542/swiderski-power-7th-annual-lawn--garden-auctio
 n
DTSTAMP:20260422T171855Z
DTSTART:20260502T140000Z
LOCATION:5500 Clairemont Dr\, Appleton\, WI
SEQUENCE:0
SUMMARY:Swiderski Power 7th Annual Lawn & Garden Auction
UID:b6ed8d5a-8cfb-4b43-9f6f-709d9a8ab6a6
URL:https://auctionresource.com/auctions/52542/swiderski-power-7th-annual-
 lawn--garden-auction
END:VEVENT
END:VCALENDAR
